BEGIN:VCALENDAR
VERSION:2.0
PRODID:-//Handbalvereniging DESK Kaatsheuvel - ECPv6.15.20//NONSGML v1.0//EN
CALSCALE:GREGORIAN
METHOD:PUBLISH
X-WR-CALNAME:Handbalvereniging DESK Kaatsheuvel
X-ORIGINAL-URL:https://www.hvdesk.nl
X-WR-CALDESC:Evenementen voor Handbalvereniging DESK Kaatsheuvel
REFRESH-INTERVAL;VALUE=DURATION:PT1H
X-Robots-Tag:noindex
X-PUBLISHED-TTL:PT1H
BEGIN:VTIMEZONE
TZID:Europe/Amsterdam
BEGIN:DAYLIGHT
TZOFFSETFROM:+0100
TZOFFSETTO:+0200
TZNAME:CEST
DTSTART:20250330T010000
END:DAYLIGHT
BEGIN:STANDARD
TZOFFSETFROM:+0200
TZOFFSETTO:+0100
TZNAME:CET
DTSTART:20251026T010000
END:STANDARD
BEGIN:DAYLIGHT
TZOFFSETFROM:+0100
TZOFFSETTO:+0200
TZNAME:CEST
DTSTART:20260329T010000
END:DAYLIGHT
BEGIN:STANDARD
TZOFFSETFROM:+0200
TZOFFSETTO:+0100
TZNAME:CET
DTSTART:20261025T010000
END:STANDARD
BEGIN:DAYLIGHT
TZOFFSETFROM:+0100
TZOFFSETTO:+0200
TZNAME:CEST
DTSTART:20270328T010000
END:DAYLIGHT
BEGIN:STANDARD
TZOFFSETFROM:+0200
TZOFFSETTO:+0100
TZNAME:CET
DTSTART:20271031T010000
END:STANDARD
END:VTIMEZONE
BEGIN:VEVENT
DTSTART;TZID=Europe/Amsterdam:20260214T140000
DTEND;TZID=Europe/Amsterdam:20260214T180000
DTSTAMP:20260422T175852
CREATED:20260114T173917Z
LAST-MODIFIED:20260114T173917Z
UID:843-1771077600-1771092000@www.hvdesk.nl
SUMMARY:🎭🎉 Carnaval bij HV DESK! 🎉🎭
DESCRIPTION:🎭🎉 Uitnodiging: Carnaval Feest bij HV DESK! 🎉🎭 \nOp zaterdag 14 februari barst het Carnaval Feest van HV DESK los! 🥳🎶Een gezellige en feestelijke middag vol carnavalssfeer\, muziek en plezier — samen maken we er een onvergetelijk carnavalsfeest van! 💛❤️💙 \n📍 Locatie: Kantine HV DESK – Eikendijk 23\, Kaatsheuvel📅 Datum: Zaterdag 14 februari⏰ Tijd: Vanaf 14.00 uur \nTrek je mooiste carnavalsoutfit aan\, neem je familie\, vrienden en teamgenoten mee en kom gezellig meefeesten.Er is muziek\, gezelligheid en natuurlijk een lekker drankje in de kantine! 🍻🎶 \n👉 Aanmelden kan via deze website en het bijbehorende registratieformulier. \nSamen vieren we Carnaval bij HV DESK — Alaaf! 🎭🥳
URL:https://www.hvdesk.nl/evenement/%f0%9f%8e%ad%f0%9f%8e%89-carnaval-bij-hv-desk-%f0%9f%8e%89%f0%9f%8e%ad/
LOCATION:Eikendijk\, Eikendijk 23\, Kaatsheuvel\, Nederland
CATEGORIES:Jeugdactiviteit,Feest,Volwassen activiteit
ATTACH;FMTTYPE=image/jpeg:https://www.hvdesk.nl/wp-content/uploads/2026/01/55CAF87E-82F9-46E1-BE1D-9732E495FD5C.jpeg
END:VEVENT
END:VCALENDAR