BEGIN:VCALENDAR
VERSION:2.0
PRODID:-//Handbalvereniging DESK Kaatsheuvel - ECPv6.15.20//NONSGML v1.0//EN
CALSCALE:GREGORIAN
METHOD:PUBLISH
X-ORIGINAL-URL:https://www.hvdesk.nl
X-WR-CALDESC:Evenementen voor Handbalvereniging DESK Kaatsheuvel
REFRESH-INTERVAL;VALUE=DURATION:PT1H
X-Robots-Tag:noindex
X-PUBLISHED-TTL:PT1H
BEGIN:VTIMEZONE
TZID:Europe/Amsterdam
BEGIN:DAYLIGHT
TZOFFSETFROM:+0100
TZOFFSETTO:+0200
TZNAME:CEST
DTSTART:20250330T010000
END:DAYLIGHT
BEGIN:STANDARD
TZOFFSETFROM:+0200
TZOFFSETTO:+0100
TZNAME:CET
DTSTART:20251026T010000
END:STANDARD
BEGIN:DAYLIGHT
TZOFFSETFROM:+0100
TZOFFSETTO:+0200
TZNAME:CEST
DTSTART:20260329T010000
END:DAYLIGHT
BEGIN:STANDARD
TZOFFSETFROM:+0200
TZOFFSETTO:+0100
TZNAME:CET
DTSTART:20261025T010000
END:STANDARD
BEGIN:DAYLIGHT
TZOFFSETFROM:+0100
TZOFFSETTO:+0200
TZNAME:CEST
DTSTART:20270328T010000
END:DAYLIGHT
BEGIN:STANDARD
TZOFFSETFROM:+0200
TZOFFSETTO:+0100
TZNAME:CET
DTSTART:20271031T010000
END:STANDARD
END:VTIMEZONE
BEGIN:VEVENT
DTSTART;TZID=Europe/Amsterdam:20260327T193000
DTEND;TZID=Europe/Amsterdam:20260327T233000
DTSTAMP:20260422T162016
CREATED:20260208T135935Z
LAST-MODIFIED:20260208T135935Z
UID:846-1774639800-1774654200@www.hvdesk.nl
SUMMARY:Bingo Night 🎱  bij HV Desk
DESCRIPTION:Uitnodiging: Bingo Night 🎱  bij HV Desk \nOp vrijdag 27 maart is het zover: Bingo Night bij HV Desk.\nDus neem je stempel stiften mee en maak je op voor een avond vol prijzen! 🏆 Een leuke manier om elkaar beter te leren kennen en misschien is een foutieve bingo wel een liedje zingen ! \n📍 Locatie: Kantine HV DESK – Eikendijk 23\, Kaatsheuvel📅 Datum: Vrijdag 27 maart 2026⏰ Tijd: Inloop vanaf 19:30\, start bingo 20:00 \nDeelname is niet verplicht\, je kunt ook gezellig een drankje komen drinken !🍾
URL:https://www.hvdesk.nl/evenement/bingo-night-%f0%9f%8e%b1-bij-hv-desk/
CATEGORIES:Volwassen activiteit
ATTACH;FMTTYPE=image/jpeg:https://www.hvdesk.nl/wp-content/uploads/2026/02/PHOTO-2026-02-02-15-49-26.jpg
END:VEVENT
END:VCALENDAR