BEGIN:VCALENDAR
VERSION:2.0
PRODID:-//Handbalvereniging DESK Kaatsheuvel - ECPv6.15.20//NONSGML v1.0//EN
CALSCALE:GREGORIAN
METHOD:PUBLISH
X-ORIGINAL-URL:https://www.hvdesk.nl
X-WR-CALDESC:Evenementen voor Handbalvereniging DESK Kaatsheuvel
REFRESH-INTERVAL;VALUE=DURATION:PT1H
X-Robots-Tag:noindex
X-PUBLISHED-TTL:PT1H
BEGIN:VTIMEZONE
TZID:Europe/Amsterdam
BEGIN:DAYLIGHT
TZOFFSETFROM:+0100
TZOFFSETTO:+0200
TZNAME:CEST
DTSTART:20250330T010000
END:DAYLIGHT
BEGIN:STANDARD
TZOFFSETFROM:+0200
TZOFFSETTO:+0100
TZNAME:CET
DTSTART:20251026T010000
END:STANDARD
BEGIN:DAYLIGHT
TZOFFSETFROM:+0100
TZOFFSETTO:+0200
TZNAME:CEST
DTSTART:20260329T010000
END:DAYLIGHT
BEGIN:STANDARD
TZOFFSETFROM:+0200
TZOFFSETTO:+0100
TZNAME:CET
DTSTART:20261025T010000
END:STANDARD
BEGIN:DAYLIGHT
TZOFFSETFROM:+0100
TZOFFSETTO:+0200
TZNAME:CEST
DTSTART:20270328T010000
END:DAYLIGHT
BEGIN:STANDARD
TZOFFSETFROM:+0200
TZOFFSETTO:+0100
TZNAME:CET
DTSTART:20271031T010000
END:STANDARD
END:VTIMEZONE
BEGIN:VEVENT
DTSTART;TZID=Europe/Amsterdam:20260612T193000
DTEND;TZID=Europe/Amsterdam:20260612T233000
DTSTAMP:20260422T180030
CREATED:20260416T183540Z
LAST-MODIFIED:20260416T185555Z
UID:885-1781292600-1781307000@www.hvdesk.nl
SUMMARY:🎯 BEAUVOETSALON DARTTOERNOOI HV DESK 🎯
DESCRIPTION:Zet je schrap\, warm je arm op en mik op die bullseye… want het is weer tijd voor hét gezelligste darttoernooi van het jaar! 🏆 \nOp vrijdag 12 juni 2026 verandert de kantine van HV DESK in dé plek waar spanning\, competitie en gezelligheid samenkomen. Of je nu een doorgewinterde darter bent of gewoon voor de sfeer komt: iedereen is welkom! \n🕢 Inloop: 19:30\n🎯 Start: 20:00 \nVerwacht fanatieke wedstrijden\, mooie worpen en natuurlijk een hoop gezelligheid langs de lijn. Wie gaat er dit jaar met de beker vandoor? 🍻 \nSchrijf je snel in en doe mee – dit wil je niet missen! Vermeld eventueel ook je dart naam !
URL:https://www.hvdesk.nl/evenement/%f0%9f%8e%af-darttoernooi-hv-desk-%f0%9f%8e%af/
LOCATION:Eikendijk\, Eikendijk 23\, Kaatsheuvel\, Nederland
CATEGORIES:Volwassen activiteit
ATTACH;FMTTYPE=image/jpeg:https://www.hvdesk.nl/wp-content/uploads/2026/04/Darten-2026.jpg
END:VEVENT
END:VCALENDAR