BEGIN:VCALENDAR
VERSION:2.0
PRODID:-//Handbalvereniging DESK Kaatsheuvel - ECPv6.15.20//NONSGML v1.0//EN
CALSCALE:GREGORIAN
METHOD:PUBLISH
X-WR-CALNAME:Handbalvereniging DESK Kaatsheuvel
X-ORIGINAL-URL:https://www.hvdesk.nl
X-WR-CALDESC:Evenementen voor Handbalvereniging DESK Kaatsheuvel
REFRESH-INTERVAL;VALUE=DURATION:PT1H
X-Robots-Tag:noindex
X-PUBLISHED-TTL:PT1H
BEGIN:VTIMEZONE
TZID:Europe/Amsterdam
BEGIN:DAYLIGHT
TZOFFSETFROM:+0100
TZOFFSETTO:+0200
TZNAME:CEST
DTSTART:20220327T010000
END:DAYLIGHT
BEGIN:STANDARD
TZOFFSETFROM:+0200
TZOFFSETTO:+0100
TZNAME:CET
DTSTART:20221030T010000
END:STANDARD
BEGIN:DAYLIGHT
TZOFFSETFROM:+0100
TZOFFSETTO:+0200
TZNAME:CEST
DTSTART:20230326T010000
END:DAYLIGHT
BEGIN:STANDARD
TZOFFSETFROM:+0200
TZOFFSETTO:+0100
TZNAME:CET
DTSTART:20231029T010000
END:STANDARD
BEGIN:DAYLIGHT
TZOFFSETFROM:+0100
TZOFFSETTO:+0200
TZNAME:CEST
DTSTART:20240331T010000
END:DAYLIGHT
BEGIN:STANDARD
TZOFFSETFROM:+0200
TZOFFSETTO:+0100
TZNAME:CET
DTSTART:20241027T010000
END:STANDARD
END:VTIMEZONE
BEGIN:VEVENT
DTSTART;VALUE=DATE:20231028
DTEND;VALUE=DATE:20231029
DTSTAMP:20260420T182244
CREATED:20230418T120620Z
LAST-MODIFIED:20230418T120620Z
UID:405-1698451200-1698537599@www.hvdesk.nl
SUMMARY:Halloween Party 2023
DESCRIPTION:We nodigen jullie uit voor een griezelig gezellige Halloween Party op 28 oktober 2023 bij Handbalvereniging DESK! Trek je engste kostuum aan en bereid je voor op een avond vol schrikwekkend plezier en spookachtige verrassingen. Laten we samen een huiveringwekkend fantastische tijd beleven!
URL:https://www.hvdesk.nl/evenement/halloween-party-2023/
LOCATION:Eikendijk\, Eikendijk 23\, Kaatsheuvel\, Nederland
ATTACH;FMTTYPE=image/jpeg:https://www.hvdesk.nl/wp-content/uploads/2023/04/360_F_284016119_3mtHYA9d642XVZl5XWwuvFcaAXu4KiqE.jpg
END:VEVENT
BEGIN:VEVENT
DTSTART;TZID=Europe/Amsterdam:20230930T200000
DTEND;TZID=Europe/Amsterdam:20231001T120000
DTSTAMP:20260420T182244
CREATED:20230714T192756Z
LAST-MODIFIED:20230714T192756Z
UID:437-1696104000-1696161600@www.hvdesk.nl
SUMMARY:Oktoberfest 2023
DESCRIPTION:Jodelahiiitiiii 🍺🍺 Oktoberfest 2023 HV-Desk vanaf 20:00u\nmeer info volgt…
URL:https://www.hvdesk.nl/evenement/oktoberfest-2023/
LOCATION:Eikendijk\, Eikendijk 23\, Kaatsheuvel\, Nederland
ATTACH;FMTTYPE=image/jpeg:https://www.hvdesk.nl/wp-content/uploads/2023/07/359827094_798181485429051_8650709274050267158_n.jpg
END:VEVENT
BEGIN:VEVENT
DTSTART;TZID=Europe/Amsterdam:20230902T160000
DTEND;TZID=Europe/Amsterdam:20230902T233000
DTSTAMP:20260420T182244
CREATED:20230714T192003Z
LAST-MODIFIED:20230714T192305Z
UID:432-1693670400-1693697400@www.hvdesk.nl
SUMMARY:Teampresentaties Seizoen 2023-2024 + BBQ
DESCRIPTION:Kom het nieuwe seizoen inluiden op zaterdag 2 september 2023 met een BBQ 🍖\, teampresentaties 🤾🏼‍♀️🤾🏼‍♂️ en een HAPPY NEW SEASON PARTY 🤩! Uiterlijk 20 augustus 2023 opgeven via de volgende link: \nAanmeldformulier Seizoensopening + BBQ (Google forms)
URL:https://www.hvdesk.nl/evenement/teampresentaties-seizoen-2023-2024-bbq/
LOCATION:Eikendijk\, Eikendijk 23\, Kaatsheuvel\, Nederland
ATTACH;FMTTYPE=image/jpeg:https://www.hvdesk.nl/wp-content/uploads/2023/07/358113416_792937089286824_5897650621857520246_n.jpg
END:VEVENT
BEGIN:VEVENT
DTSTART;VALUE=DATE:20230701
DTEND;VALUE=DATE:20230702
DTSTAMP:20260420T182244
CREATED:20230328T215331Z
LAST-MODIFIED:20230606T114839Z
UID:375-1688169600-1688255999@www.hvdesk.nl
SUMMARY:Summerfest 2023
DESCRIPTION:Het Summerfest bij Handbalvereniging DESK is een bruisend en kleurrijk evenement dat de zomerse sfeer naar de vereniging brengt. Met tropische decoraties\, verfrissende cocktails en aanstekelijke muziek wordt het clubhuis omgetoverd tot een zonovergoten paradijs\, waar leden en hun vrienden kunnen genieten van een onvergetelijke dag. Dit zinderende festijn biedt een perfecte mix van ontspanning\, entertainment en teambuilding\, en creëert een sfeer van samenhorigheid die nog lang zal nazinderen in de harten van de aanwezigen.
URL:https://www.hvdesk.nl/evenement/summerfest-2023/
LOCATION:Eikendijk\, Eikendijk 23\, Kaatsheuvel\, Nederland
CATEGORIES:Feest
ATTACH;FMTTYPE=image/jpeg:https://www.hvdesk.nl/wp-content/uploads/2023/03/summerfest_signs.jpg
END:VEVENT
BEGIN:VEVENT
DTSTART;VALUE=DATE:20230630
DTEND;VALUE=DATE:20230701
DTSTAMP:20260420T182244
CREATED:20230328T214358Z
LAST-MODIFIED:20230328T215641Z
UID:372-1688083200-1688169599@www.hvdesk.nl
SUMMARY:Dames recreanten feest
DESCRIPTION:Het Dames recreanten feest bij Handbalvereniging DESK is een sfeervol en ontspannen evenement waar de vrouwelijke recreanten samenkomen om te genieten van een gezellige avond. Met muziek\, dans en smakelijke hapjes beleven de dames een heerlijke tijd waarbij ze hun sportieve prestaties vieren en de band met hun teamgenoten versterken. Dit feest zorgt voor een warme\, inclusieve sfeer en een blijvende herinnering aan de gezelligheid binnen de vereniging.
URL:https://www.hvdesk.nl/evenement/dames-recreanten-feest/
CATEGORIES:Feest
ATTACH;FMTTYPE=image/jpeg:https://www.hvdesk.nl/wp-content/uploads/2023/03/87255369_2700400533410966_6646209801749528576_n.jpg
END:VEVENT
BEGIN:VEVENT
DTSTART;VALUE=DATE:20230624
DTEND;VALUE=DATE:20230626
DTSTAMP:20260420T182244
CREATED:20230328T214159Z
LAST-MODIFIED:20230328T215641Z
UID:370-1687564800-1687737599@www.hvdesk.nl
SUMMARY:Jeugdkamp 2023
DESCRIPTION:Het jeugdkamp van Handbalvereniging DESK is een avontuurlijk en energiek evenement waar jonge leden samenkomen om nieuwe ervaringen op te doen en vriendschappen te smeden. Tijdens dit meerdaagse kamp nemen de deelnemers deel aan diverse sportieve en creatieve activiteiten\, terwijl ze samenwerken en elkaar beter leren kennen. Het jeugdkamp bevordert niet alleen teambuilding en saamhorigheid\, maar zorgt ook voor onvergetelijke herinneringen voor de jonge leden van de vereniging.
URL:https://www.hvdesk.nl/evenement/jeugdkamp-2023/
LOCATION:Eikendijk\, Eikendijk 23\, Kaatsheuvel\, Nederland
CATEGORIES:Jeugdactiviteit
ATTACH;FMTTYPE=image/jpeg:https://www.hvdesk.nl/wp-content/uploads/2023/03/216787246_4057891714328501_5554120585851901923_n.jpg
END:VEVENT
BEGIN:VEVENT
DTSTART;VALUE=DATE:20230617
DTEND;VALUE=DATE:20230618
DTSTAMP:20260420T182244
CREATED:20230509T184816Z
LAST-MODIFIED:20230511T074824Z
UID:418-1686960000-1687046399@www.hvdesk.nl
SUMMARY:Schoolhandbal
DESCRIPTION:
URL:https://www.hvdesk.nl/evenement/schoolhandbal/
LOCATION:Eikendijk\, Eikendijk 23\, Kaatsheuvel\, Nederland
CATEGORIES:Jeugdactiviteit
ATTACH;FMTTYPE=image/jpeg:https://www.hvdesk.nl/wp-content/uploads/2023/05/19452910_1328994793884887_289066152549257937_o.jpg
END:VEVENT
BEGIN:VEVENT
DTSTART;VALUE=DATE:20230408
DTEND;VALUE=DATE:20230409
DTSTAMP:20260420T182244
CREATED:20230328T213813Z
LAST-MODIFIED:20230328T215932Z
UID:366-1680912000-1680998399@www.hvdesk.nl
SUMMARY:Paasei zoek bingo
DESCRIPTION:De Paasei zoek bingo bij Handbalvereniging DESK is een uniek en creatief evenement waar leden van alle leeftijden hun speurvaardigheden en geluk combineren. Tijdens deze activiteit gaan de deelnemers enthousiast op jacht naar zorgvuldig verstopte paaseieren\, terwijl ze tegelijkertijd deel uitmaken van een spannende bingowedstrijd. Het evenement biedt een perfecte mix van ontspanning\, competitie en teambuilding\, wat zorgt voor een hechte band tussen de leden van de vereniging.
URL:https://www.hvdesk.nl/evenement/paasei-zoek-bingo/
LOCATION:Eikendijk\, Eikendijk 23\, Kaatsheuvel\, Nederland
CATEGORIES:Jeugdactiviteit
ATTACH;FMTTYPE=image/png:https://www.hvdesk.nl/wp-content/uploads/2023/03/DALL·E-2023-03-28-23.37.23-easteregg-bingo-e1680089301918.png
END:VEVENT
BEGIN:VEVENT
DTSTART;TZID=Europe/Amsterdam:20230211T140000
DTEND;TZID=Europe/Amsterdam:20230211T223000
DTSTAMP:20260420T182244
CREATED:20220930T064603Z
LAST-MODIFIED:20230328T215641Z
UID:217-1676124000-1676154600@www.hvdesk.nl
SUMMARY:Winterwandeltocht 2023
DESCRIPTION:
URL:https://www.hvdesk.nl/evenement/winterwandeltocht-2023/
LOCATION:Eikendijk\, Eikendijk 23\, Kaatsheuvel\, Nederland
CATEGORIES:Training
ATTACH;FMTTYPE=image/jpeg:https://www.hvdesk.nl/wp-content/uploads/2022/09/694.jpeg
END:VEVENT
END:VCALENDAR