BEGIN:VCALENDAR
VERSION:2.0
PRODID:-//Handbalvereniging DESK Kaatsheuvel - ECPv6.15.20//NONSGML v1.0//EN
CALSCALE:GREGORIAN
METHOD:PUBLISH
X-ORIGINAL-URL:https://www.hvdesk.nl
X-WR-CALDESC:Evenementen voor Handbalvereniging DESK Kaatsheuvel
REFRESH-INTERVAL;VALUE=DURATION:PT1H
X-Robots-Tag:noindex
X-PUBLISHED-TTL:PT1H
BEGIN:VTIMEZONE
TZID:Europe/Amsterdam
BEGIN:DAYLIGHT
TZOFFSETFROM:+0100
TZOFFSETTO:+0200
TZNAME:CEST
DTSTART:20250330T010000
END:DAYLIGHT
BEGIN:STANDARD
TZOFFSETFROM:+0200
TZOFFSETTO:+0100
TZNAME:CET
DTSTART:20251026T010000
END:STANDARD
BEGIN:DAYLIGHT
TZOFFSETFROM:+0100
TZOFFSETTO:+0200
TZNAME:CEST
DTSTART:20260329T010000
END:DAYLIGHT
BEGIN:STANDARD
TZOFFSETFROM:+0200
TZOFFSETTO:+0100
TZNAME:CET
DTSTART:20261025T010000
END:STANDARD
BEGIN:DAYLIGHT
TZOFFSETFROM:+0100
TZOFFSETTO:+0200
TZNAME:CEST
DTSTART:20270328T010000
END:DAYLIGHT
BEGIN:STANDARD
TZOFFSETFROM:+0200
TZOFFSETTO:+0100
TZNAME:CET
DTSTART:20271031T010000
END:STANDARD
END:VTIMEZONE
BEGIN:VEVENT
DTSTART;TZID=Europe/Amsterdam:20260610T143000
DTEND;TZID=Europe/Amsterdam:20260610T173000
DTSTAMP:20260420T201934
CREATED:20260416T190412Z
LAST-MODIFIED:20260416T190701Z
UID:897-1781101800-1781112600@www.hvdesk.nl
SUMMARY:🤾‍♂️HV Desk Schoolhandbaltoernooi 2026 🤾‍♀️
DESCRIPTION:🤾‍♂️🎉 HV Desk Schoolhandbaltoernooi 2026 🎉🤾‍♀️ \nOp dinsdag 10 juni organiseert HV Desk weer het jaarlijkse Schoolhandbaltoernooi!\nEen sportieve en gezellige dag waar basisscholen uit de gemeente Loon op Zand aan mee kunnen doen 🧡 \n🏫 Alle scholen zijn van harte welkom\n👧🧒 Er wordt gespeeld in 3 leeftijdscategorieën\, zodat iedereen op zijn eigen niveau kan meedoen\n📍 Locatie: Eikendijk 23\, Kaatsheuvel\n⏰ Start vanaf de middag als de scholen uit zijn \nSamen maken we er een dag vol sport\, plezier en teamspirit van! 💪😄
URL:https://www.hvdesk.nl/evenement/%f0%9f%a4%be%e2%99%82%ef%b8%8fhv-desk-schoolhandbaltoernooi-2026-%f0%9f%a4%be%e2%99%80%ef%b8%8f/
LOCATION:Eikendijk\, Eikendijk 23\, Kaatsheuvel\, Nederland
CATEGORIES:Jeugdactiviteit,Clinics
ATTACH;FMTTYPE=image/jpeg:https://www.hvdesk.nl/wp-content/uploads/2025/06/Bekers-Buitenveld.jpg
END:VEVENT
BEGIN:VEVENT
DTSTART;TZID=Europe/Amsterdam:20260612T193000
DTEND;TZID=Europe/Amsterdam:20260612T233000
DTSTAMP:20260420T201934
CREATED:20260416T183540Z
LAST-MODIFIED:20260416T185555Z
UID:885-1781292600-1781307000@www.hvdesk.nl
SUMMARY:🎯 BEAUVOETSALON DARTTOERNOOI HV DESK 🎯
DESCRIPTION:Zet je schrap\, warm je arm op en mik op die bullseye… want het is weer tijd voor hét gezelligste darttoernooi van het jaar! 🏆 \nOp vrijdag 12 juni 2026 verandert de kantine van HV DESK in dé plek waar spanning\, competitie en gezelligheid samenkomen. Of je nu een doorgewinterde darter bent of gewoon voor de sfeer komt: iedereen is welkom! \n🕢 Inloop: 19:30\n🎯 Start: 20:00 \nVerwacht fanatieke wedstrijden\, mooie worpen en natuurlijk een hoop gezelligheid langs de lijn. Wie gaat er dit jaar met de beker vandoor? 🍻 \nSchrijf je snel in en doe mee – dit wil je niet missen! Vermeld eventueel ook je dart naam !
URL:https://www.hvdesk.nl/evenement/%f0%9f%8e%af-darttoernooi-hv-desk-%f0%9f%8e%af/
LOCATION:Eikendijk\, Eikendijk 23\, Kaatsheuvel\, Nederland
CATEGORIES:Volwassen activiteit
ATTACH;FMTTYPE=image/jpeg:https://www.hvdesk.nl/wp-content/uploads/2026/04/Darten-2026.jpg
END:VEVENT
BEGIN:VEVENT
DTSTART;TZID=Europe/Amsterdam:20260704T080000
DTEND;TZID=Europe/Amsterdam:20260705T170000
DTSTAMP:20260420T201934
CREATED:20251005T144454Z
LAST-MODIFIED:20260114T174110Z
UID:785-1783152000-1783270800@www.hvdesk.nl
SUMMARY:🏕 HV DESK Jeugdkamp 2026! 💙💛
DESCRIPTION:🏕 Uitnodiging: HV DESK Jeugdkamp 2026! 🏕🤾‍♀️💙💛 \nHet is weer zover! Op zaterdag 4 en zondag 5 juli 2026 vindt het jaarlijkse HV DESK Jeugdkamp plaats! 🌟Een weekend vol sport\, spel\, plezier en verrassingen — en natuurlijk samen met al je teamgenoten! 💪🎉 \nHet thema blijft nog even geheim… 🤫 Maar we beloven je: het wordt weer een weekend om nooit te vergeten! 🎭🔥 \n📍 Locatie: Kantine HV DESK – Eikendijk 23\, Kaatsheuvel📅 Datum: Zaterdag 4 & zondag 5 juli 2026⏰ Tijd: Wordt later bekendgemaakt \nZet de datum alvast dik in je agenda en houd de appgroepen in de gaten voor meer info over waar aan te melden\, het thema\, programma en wat je allemaal mee moet nemen. 🏕 \nWij kunnen niet wachten om er samen met jullie een geweldig kamp van te maken! 💙💛#HVDESK #Jeugdkamp2026 #TeamSpirit
URL:https://www.hvdesk.nl/evenement/785/
CATEGORIES:Jeugdactiviteit
ATTACH;FMTTYPE=image/jpeg:https://www.hvdesk.nl/wp-content/uploads/2025/10/Handbalkamp-2026.jpg
END:VEVENT
BEGIN:VEVENT
DTSTART;TZID=Europe/Amsterdam:20260812T090000
DTEND;TZID=Europe/Amsterdam:20260812T150000
DTSTAMP:20260420T201934
CREATED:20260417T055527Z
LAST-MODIFIED:20260417T055527Z
UID:900-1786525200-1786546800@www.hvdesk.nl
SUMMARY:Sportieve samenwerking 💪🤾‍♂️ HV Desk & Stichting Jeugdpret
DESCRIPTION:Deze zomer brengen HV Desk en Stichting Jeugdpret Kaatsheuvel samen de handbalsport naar het hart van Kaatsheuvel tijdens een besloten sportevenement speciaal voor de deelnemers van Jeugdpret. \nTijdens deze dagen krijgen maar liefst ruim 320 kinderen de kans om op een leuke\, laagdrempelige manier kennis te maken met handbal. Onder begeleiding van ervaren trainers en vrijwilligers van HV Desk en het NHV ontdekken de kinderen spelenderwijs de basisvaardigheden van de sport. Door middel van uitdagende oefeningen\, spelvormen en mini-wedstrijden beleven zij een actieve en vooral plezierige sportdag. \n📍 Locatie: Kaatsheuvel📅 Datum: 18/08/2025🕒 Tijd: 09:00🎯 Aantal deelnemers: circa 320 kinderen🎯 Toegang: Alleen voor ingeschreven deelnemers via Stichting Jeugdpret \nMet deze samenwerking willen HV Desk en Stichting Jeugdpret bijdragen aan een actieve zomervakantie én zoveel mogelijk kinderen in aanraking laten komen met handbal – een sport vol snelheid\, samenwerking en plezier.
URL:https://www.hvdesk.nl/evenement/sportieve-samenwerking-%f0%9f%92%aa%f0%9f%a4%be%e2%99%82%ef%b8%8f-hv-desk-stichting-jeugdpret/
LOCATION:Prins Mauritsplein\, Prins Mauritsplein\, Kaatsheuvel\, Netherlands
CATEGORIES:Jeugdactiviteit,Clinics
END:VEVENT
END:VCALENDAR